BEGIN:VCALENDAR
VERSION:2.0
PRODID:-//wp-events-plugin.com//7.2.3.1//EN
TZID:America/Detroit
X-WR-TIMEZONE:America/Detroit
BEGIN:VEVENT
UID:844@stillmountainmeditation.org
DTSTART;TZID=America/Detroit:20220102T114500
DTEND;TZID=America/Detroit:20220102T130000
DTSTAMP:20211231T152552Z
URL:https://stillmountainmeditation.org/events/2022-annual-board-meeting/
SUMMARY:2022 Annual Board Meeting
DESCRIPTION:Following our meditation and sharing\, the Board will hold thei
 r first meeting of 2022.
END:VEVENT
BEGIN:VTIMEZONE
TZID:America/Detroit
X-LIC-LOCATION:America/Detroit
BEGIN:STANDARD
DTSTART:20211107T010000
TZOFFSETFROM:-0400
TZOFFSETTO:-0500
TZNAME:EST
END:STANDARD
END:VTIMEZONE
END:VCALENDAR