BEGIN:VCALENDAR
VERSION:2.0
PRODID:-//wp-events-plugin.com//7.2.3.1//EN
TZID:America/Detroit
X-WR-TIMEZONE:America/Detroit
BEGIN:VEVENT
UID:1133@stillmountainmeditation.org
DTSTART;TZID=America/Detroit:20220830T170000
DTEND;TZID=America/Detroit:20220830T190000
DTSTAMP:20220813T020712Z
URL:https://stillmountainmeditation.org/events/david-lawson-celebration/
SUMMARY:David Lawson Celebration
DESCRIPTION:Please join us for a celebration in honor of David Lawson on th
 e one year anniversary of his death. We will gather on Tuesday\, August 30
  at Island Park Shelter B where David’s memorial was held. Come at 5 pm 
 to socialize and mingle. Light refreshments will be available. The program
  will start at 5:30 pm and continue until the sharing is complete. We envi
 sion sitting with a circle of friends who have loved David and are so very
  grateful for the teachings and guidance that he shared with us.\n\nBecaus
 e of technical complications\, we will not be able to offer a Zoom option.
  Our apologies to our sangha members who live farther away.\n\nWe will be 
 under the roof of the shelter so we can meet regardless of inclement weath
 er. The picnic tables will be arranged in a circle but if you have a more 
 comfortable folding chair\, please bring it along with you. There is plent
 y of parking close by. We will be by the river so consider dressing approp
 riately or bringing bug repellant.\n\nYou are invited to bring something t
 o share such as a poem or a memory and flowers and other items to place on
  a small altar that will be in the center of the circle.
ATTACH;FMTTYPE=image/jpeg:https://stillmountainmeditation.org/wp-content/u
 ploads/2022/08/Lawson-Memorial-2021-12-08.jpg
LOCATION:Island Park\, 1420 Island Drive\, Ann Arbor\, MI\, 48105\, United 
 States
X-APPLE-STRUCTURED-LOCATION;VALUE=URI;X-ADDRESS=1420 Island Drive\, Ann Arb
 or\, MI\, 48105\, United States;X-APPLE-RADIUS=100;X-TITLE=Island Park:geo
 :0,0
END:VEVENT
BEGIN:VTIMEZONE
TZID:America/Detroit
X-LIC-LOCATION:America/Detroit
BEGIN:DAYLIGHT
DTSTART:20220313T030000
TZOFFSETFROM:-0500
TZOFFSETTO:-0400
TZNAME:EDT
END:DAYLIGHT
END:VTIMEZONE
END:VCALENDAR