BEGIN:VCALENDAR
VERSION:2.0
PRODID:-//wp-events-plugin.com//7.2.3.1//EN
TZID:America/Detroit
X-WR-TIMEZONE:America/Detroit
BEGIN:VEVENT
UID:1584@stillmountainmeditation.org
DTSTART;TZID=America/Detroit:20240928T090000
DTEND;TZID=America/Detroit:20240928T150000
DTSTAMP:20240923T160025Z
URL:https://stillmountainmeditation.org/events/intention-action-and-care/
SUMMARY:Retreat on Intention\, Action and Care
DESCRIPTION:Led by Bilha Rivlin and Ken Morley.  Sept 28 9:00 am – 3:00 
 pm.\n\nA Daylong Meditation Retreat: Intention\, Action\, Care: The Buddhi
 st Map—Choosing the Right Road Towards Liberation in Our Lifetime\n\nWis
 e intention is about honoring the heart space that guides everything we un
 dertake. It’s about awakening our readiness to recommit—to be wholehea
 rted once again.\n\nThis teaching invites us to put the intention of Causi
 ng no Harm and treat ourselves and others with Loving-Kindness\, while see
 king true happiness—that which comes from being free from grasping and c
 linging—free from attachment.
LOCATION:Turner Senior Resource Center\, 2401 Plymouth Road\, Suite C\, Ann
  Arbor\, MI\, 48105\, United States
X-APPLE-STRUCTURED-LOCATION;VALUE=URI;X-ADDRESS=2401 Plymouth Road\, Suite 
 C\, Ann Arbor\, MI\, 48105\, United States;X-APPLE-RADIUS=100;X-TITLE=Turn
 er Senior Resource Center:geo:0,0
END:VEVENT
BEGIN:VTIMEZONE
TZID:America/Detroit
X-LIC-LOCATION:America/Detroit
BEGIN:DAYLIGHT
DTSTART:20240310T030000
TZOFFSETFROM:-0500
TZOFFSETTO:-0400
TZNAME:EDT
END:DAYLIGHT
END:VTIMEZONE
END:VCALENDAR