BEGIN:VCALENDAR
VERSION:2.0
PRODID:-//wp-events-plugin.com//7.2.3.1//EN
TZID:America/Detroit
X-WR-TIMEZONE:America/Detroit
BEGIN:VEVENT
UID:1604@stillmountainmeditation.org
DTSTART;TZID=America/Detroit:20250223T100000
DTEND;TZID=America/Detroit:20250223T123000
DTSTAMP:20250127T204240Z
URL:https://stillmountainmeditation.org/events/meditation-and-sharing-4-20
 25-02-23/
SUMMARY:Meditation and Sharing\, Social
DESCRIPTION:Our weekly meditation and sharing is open to the public. We wil
 l sit in silence for about 45 minutes\, take a quick break\, and then gath
 er for sharing related to the Dharma.\n\nImmediately after our sharing\, j
 oin us at Turner Center (not on Zoom) for a Sangha Social Gathering.  It 
 is a time to have fun and share with other people and enjoy some healthy t
 reats.  Please bring a healthy dish to pass.\nAttend in person or join th
 e Zoom Meeting:\nhttps://us02web.zoom.us/j/86458112312?pwd=T2oxTnRHckpRMXd
 OS29mZkRYZnFPdz09\n\nMeeting ID: 864 5811 2312\nPasscode: 040818\n\nFind o
 ut more about joining a Zoom Meeting.
CATEGORIES:Sundays
LOCATION:Turner Senior Resource Center\, 2401 Plymouth Road\, Suite C\, Ann
  Arbor\, MI\, 48105\, United States
X-APPLE-STRUCTURED-LOCATION;VALUE=URI;X-ADDRESS=2401 Plymouth Road\, Suite 
 C\, Ann Arbor\, MI\, 48105\, United States;X-APPLE-RADIUS=100;X-TITLE=Turn
 er Senior Resource Center:geo:0,0
END:VEVENT
BEGIN:VTIMEZONE
TZID:America/Detroit
X-LIC-LOCATION:America/Detroit
BEGIN:STANDARD
DTSTART:20241103T010000
TZOFFSETFROM:-0400
TZOFFSETTO:-0500
TZNAME:EST
END:STANDARD
END:VTIMEZONE
END:VCALENDAR