BEGIN:VCALENDAR
VERSION:2.0
PRODID:-//wp-events-plugin.com//7.2.3.1//EN
TZID:America/Detroit
X-WR-TIMEZONE:America/Detroit
BEGIN:VEVENT
UID:1963@stillmountainmeditation.org
DTSTART;TZID=America/Detroit:20260510T100000
DTEND;TZID=America/Detroit:20260510T113000
DTSTAMP:20260326T170621Z
URL:https://stillmountainmeditation.org/events/meditation-and-sharing-6-20
 26-05-10/
SUMMARY:Meditation and Dharma Talk
DESCRIPTION:Our weekly meditation and sharing is open to the public. We wil
 l sit in silence for about 45 minutes\, take a quick break\, and then gath
 er for a Dharma Talk by Bilha.\n\nWe meet in person\, but for those who pr
 efer to join us online a hybrid option via Zoom is available.  Zoom infor
 mation is sent via email and is available on our website for logged-in use
 rs.  If you would like to be able to log in and to receive our email\, yo
 u may register online.\n\n[gh_is_contact]\nZoom Info:\nStillMountain Ann A
 rbor is inviting you to a scheduled Zoom meeting.  Read: How to Join a Zo
 om Meeting.\n\nJoin the Zoom Meeting Now\n\nMeeting ID: 847 7066 2587\nPas
 scode: 932761\n[/gh_is_contact]
CATEGORIES:Sundays
LOCATION:Harmony in Motion Studio\, 1955 Pauline Blvd.\, Suite 100B\, Ann A
 rbor\, MI\, 48103\, United States
X-APPLE-STRUCTURED-LOCATION;VALUE=URI;X-ADDRESS=1955 Pauline Blvd.\, Suite 
 100B\, Ann Arbor\, MI\, 48103\, United States;X-APPLE-RADIUS=100;X-TITLE=H
 armony in Motion Studio:geo:0,0
END:VEVENT
BEGIN:VTIMEZONE
TZID:America/Detroit
X-LIC-LOCATION:America/Detroit
BEGIN:DAYLIGHT
DTSTART:20260308T030000
TZOFFSETFROM:-0500
TZOFFSETTO:-0400
TZNAME:EDT
END:DAYLIGHT
END:VTIMEZONE
END:VCALENDAR