BEGIN:VCALENDAR
VERSION:2.0
PRODID:-//wp-events-plugin.com//7.2.3.1//EN
TZID:America/Detroit
X-WR-TIMEZONE:America/Detroit
BEGIN:VEVENT
UID:1804@stillmountainmeditation.org
DTSTART;TZID=America/Detroit:20250528T190000
DTEND;TZID=America/Detroit:20250528T203000
DTSTAMP:20250528T221055Z
URL:https://stillmountainmeditation.org/events/relating-skillfully-todays-
 political-circumstances/
SUMMARY:Relating Skillfully to Today's Political Circumstances
DESCRIPTION:This online program will create a safe container to sit in medi
 tation and then reflect and share as to how the present political circumst
 ances are impacting your heart and mind.  Teachers of Still Mountain will
  facilitate the event and will participate in the sharing and perspective 
 of these current dharmas.
LOCATION:https://us02web.zoom.us/j/85326264049?pwd=CZat9XzfuXeAbp2mascDrlxw
 heejrh.1
END:VEVENT
BEGIN:VTIMEZONE
TZID:America/Detroit
X-LIC-LOCATION:America/Detroit
BEGIN:DAYLIGHT
DTSTART:20250309T030000
TZOFFSETFROM:-0500
TZOFFSETTO:-0400
TZNAME:EDT
END:DAYLIGHT
END:VTIMEZONE
END:VCALENDAR