BEGIN:VCALENDAR
VERSION:2.0
PRODID:-//wp-events-plugin.com//7.2.3.1//EN
TZID:America/Detroit
X-WR-TIMEZONE:America/Detroit
BEGIN:VEVENT
UID:1564@stillmountainmeditation.org
DTSTART;TZID=America/Detroit:20240203T100000
DTEND;TZID=America/Detroit:20240203T160000
DTSTAMP:20240106T181728Z
URL:https://stillmountainmeditation.org/events/retreat/
SUMMARY:Retreat: The Middle Way
DESCRIPTION:A Day Long Meditation Retreat: THE MIDDLE WAY\nWhen Mindfulness
  meets a mind’s habit\nThe “Middle Way” is a quality of mind that ex
 ists in the reality of present time.  In this reality\, life is clear\, a
 wake\, and empty—yet filled with possibilities.  When we rest in this s
 tate of mind\, we neither remove ourselves from our worldly experiences no
 r get lost in them. We just keep the whole drama in a close\, compassionat
 e attention—to open the space for change and possibilities.\n\nDuring th
 is retreat\, we’ll explore the Buddhist concept of the “Middle Way”\
 , through meditation practices\, teachings\, and interactive contemplation
 s.\n\nCost: Given freely. On Dana Basis\nPrerequisite: Basic experience wi
 th Mindfulness Meditation.\nLeading the Retreat: Still Mountain Teacher\, 
 Bilha Birman-Rivlin\, PhD.
ATTACH;FMTTYPE=image/jpeg:https://stillmountainmeditation.org/wp-content/u
 ploads/2021/09/kalle-kortelainen-cenlDgUeuW8-unsplash-scaled.jpg
LOCATION:Turner Senior Resource Center\, 2401 Plymouth Road\, Suite C\, Ann
  Arbor\, MI\, 48105\, United States
X-APPLE-STRUCTURED-LOCATION;VALUE=URI;X-ADDRESS=2401 Plymouth Road\, Suite 
 C\, Ann Arbor\, MI\, 48105\, United States;X-APPLE-RADIUS=100;X-TITLE=Turn
 er Senior Resource Center:geo:0,0
END:VEVENT
BEGIN:VTIMEZONE
TZID:America/Detroit
X-LIC-LOCATION:America/Detroit
BEGIN:STANDARD
DTSTART:20231105T010000
TZOFFSETFROM:-0400
TZOFFSETTO:-0500
TZNAME:EST
END:STANDARD
END:VTIMEZONE
END:VCALENDAR