BEGIN:VCALENDAR
VERSION:2.0
PRODID:-//wp-events-plugin.com//7.2.3.1//EN
TZID:America/Detroit
X-WR-TIMEZONE:America/Detroit
BEGIN:VEVENT
UID:1307@stillmountainmeditation.org
DTSTART;TZID=America/Detroit:20230820T114500
DTEND;TZID=America/Detroit:20230820T133000
DTSTAMP:20230713T161913Z
URL:https://stillmountainmeditation.org/events/sangha-potluck-and-celebrat
 ion/
SUMMARY:Sangha Potluck and Celebration
DESCRIPTION:Come see the bookcase newly filled with books donated from Davi
 d Lawson’s library.  There will be an opportunity to express appreciati
 on for the gifts we received from David’s spiritual guidance and to hear
  from others who contributed to the founding of Still Mountain.\n\nBooks f
 rom David’s collection that do not fit on the shelves will be offered on
  a dana basis.\n\nWe will celebrate being together with a Pot Luck meal.\n
 \nPlease bring a dish to share.\n\nWe hope to see you there.
CATEGORIES:Default
LOCATION:Turner Senior Resource Center\, 2401 Plymouth Road\, Suite C\, Ann
  Arbor\, MI\, 48105\, United States
X-APPLE-STRUCTURED-LOCATION;VALUE=URI;X-ADDRESS=2401 Plymouth Road\, Suite 
 C\, Ann Arbor\, MI\, 48105\, United States;X-APPLE-RADIUS=100;X-TITLE=Turn
 er Senior Resource Center:geo:0,0
END:VEVENT
BEGIN:VTIMEZONE
TZID:America/Detroit
X-LIC-LOCATION:America/Detroit
BEGIN:DAYLIGHT
DTSTART:20230312T030000
TZOFFSETFROM:-0500
TZOFFSETTO:-0400
TZNAME:EDT
END:DAYLIGHT
END:VTIMEZONE
END:VCALENDAR