BEGIN:VCALENDAR
VERSION:2.0
PRODID:-//wp-events-plugin.com//7.2.3.1//EN
TZID:America/Detroit
X-WR-TIMEZONE:America/Detroit
BEGIN:VEVENT
UID:809@stillmountainmeditation.org
DTSTART;TZID=America/Detroit:20230212T100000
DTEND;TZID=America/Detroit:20230212T113000
DTSTAMP:20230208T190249Z
URL:https://stillmountainmeditation.org/events/sunday-meditation-and-shari
 ng-2-2023-02-12/
SUMMARY:Sunday Meditation and Community Meeting
DESCRIPTION:Our weekly meditation and sharing is open to the public. We wil
 l sit in silence for about 45 minutes\, take a quick break\, and then gath
 er for a community meeting.\nTo attend in person\, you must:\n\n 	be fully
  vaccinated against COVID-19 and\n 	wear a mask while indoors\n\nor\, Join
  the Zoom Meeting:\nhttps://us02web.zoom.us/j/86458112312?pwd=T2oxTnRHckpR
 MXdOS29mZkRYZnFPdz09\n\nMeeting ID: 864 5811 2312\nPasscode: 040818\n\nFin
 d out more about joining a Zoom Meeting.
LOCATION:Turner Senior Resource Center\, 2401 Plymouth Road\, Suite C\, Ann
  Arbor\, MI\, 48105\, United States
X-APPLE-STRUCTURED-LOCATION;VALUE=URI;X-ADDRESS=2401 Plymouth Road\, Suite 
 C\, Ann Arbor\, MI\, 48105\, United States;X-APPLE-RADIUS=100;X-TITLE=Turn
 er Senior Resource Center:geo:0,0
END:VEVENT
BEGIN:VTIMEZONE
TZID:America/Detroit
X-LIC-LOCATION:America/Detroit
BEGIN:STANDARD
DTSTART:20221106T010000
TZOFFSETFROM:-0400
TZOFFSETTO:-0500
TZNAME:EST
END:STANDARD
END:VTIMEZONE
END:VCALENDAR