BEGIN:VCALENDAR
VERSION:2.0
PRODID:-//wp-events-plugin.com//7.2.3.1//EN
TZID:America/Detroit
X-WR-TIMEZONE:America/Detroit
BEGIN:VEVENT
UID:1430@stillmountainmeditation.org
DTSTART;TZID=America/Detroit:20240324T100000
DTEND;TZID=America/Detroit:20240324T113000
DTSTAMP:20240318T232118Z
URL:https://stillmountainmeditation.org/events/sunday-meditation-and-shari
 ng-4-2024-03-24/
SUMMARY:Sunday Meditation (Online Only)
DESCRIPTION:Our weekly meditation and sharing is open to the public. We wil
 l sit in silence for about 45 minutes\, take a quick break\, and then gath
 er for a Dharma discussion\, following on the March 17 Dharma Talk on the 
 Second Noble Truth.  While we usually meet in a hybrid format\, this day 
 we are meeting only via Zoom.  There will be no meeting at Turner Center 
 today.\nIn this discussion we will explore The Second Noble Truth in our l
 ives reflecting on our experience with Tanha (craving).  Before the discu
 ssion you are encouraged to be mindful of craving in your life and allowin
 g this energy. You can also trace the craving to one of the following cate
 gories:\n\n 	Craving for sense pleasures.\n 	Craving for becoming.\n 	Crav
 ing for non-becoming.\n\nUpon discerning the type of craving\, notice if y
 our experience changes.\nJoin the Zoom Meeting:\nhttps://us02web.zoom.us/j
 /86458112312?pwd=T2oxTnRHckpRMXdOS29mZkRYZnFPdz09\n\nMeeting ID: 864 5811 
 2312\nPasscode: 040818\n\nFind out more about joining a Zoom Meeting.
CATEGORIES:Sundays
LOCATION:https://us02web.zoom.us/j/86458112312?pwd=T2oxTnRHckpRMXdOS29mZkRY
 ZnFPdz09
END:VEVENT
BEGIN:VTIMEZONE
TZID:America/Detroit
X-LIC-LOCATION:America/Detroit
BEGIN:DAYLIGHT
DTSTART:20240310T030000
TZOFFSETFROM:-0500
TZOFFSETTO:-0400
TZNAME:EDT
END:DAYLIGHT
END:VTIMEZONE
END:VCALENDAR