BEGIN:VCALENDAR
VERSION:2.0
PRODID:-//wp-events-plugin.com//7.2.3.1//EN
TZID:America/Detroit
X-WR-TIMEZONE:America/Detroit
BEGIN:VEVENT
UID:1559@stillmountainmeditation.org
DTSTART;TZID=America/Detroit:20240220T100000
DTEND;TZID=America/Detroit:20240220T113000
DTSTAMP:20231221T005346Z
URL:https://stillmountainmeditation.org/events/the-cycle-of-dependent-aris
 ing-and-ceasing-2024-02-20/
SUMMARY:The Cycle of Dependent Arising and Ceasing
DESCRIPTION:Freeing of the Heart from Addictive and Destructive Cycles of A
 ttitude and Behavior\nStarting on Tuesday\, January 2nd\, we will begin a 
 new class\, in which we’ll be working with the teachings on arising and 
 ceasing in The Cycle of Dependent Origination. One of our main sources for
  this class will be Ajahn Amaro’s book: "Catastrophe/Apostrophe – The
  Buddha’s Teaching on the Dependent Arising and Ceasing.”\n\nFollowing
  Amaro’s teachings\, the intention of this class is to focus upon practi
 cal means of understanding and applying the principles of dependent origin
 ation\, to support the freeing of the heart from addictive and destructive
  cycles of attitude and behavior.\n\n 	When: Tuesday\, January 2nd\, 10:00
 -11:30\n 	Where: Online\, Via Zoom\n 	To register\, please email Bilha: yb
 rivlin@att.net\n 	The book in a PDF form\, and the Zoom link will be sent 
 to the people who registered.\n
END:VEVENT
BEGIN:VTIMEZONE
TZID:America/Detroit
X-LIC-LOCATION:America/Detroit
BEGIN:STANDARD
DTSTART:20231105T010000
TZOFFSETFROM:-0400
TZOFFSETTO:-0500
TZNAME:EST
END:STANDARD
END:VTIMEZONE
END:VCALENDAR